BEGIN:VCALENDAR
VERSION:2.0
PRODID:-//VolunteerLondon//CommunityEvents//EN
CALSCALE:GREGORIAN
BEGIN:VEVENT
SUMMARY:LONDON CONTEMPORARY ART FAIR 2026 – 17TH EDITION April 24 – May 07\
 , 2026
DTSTAMP:20260420T155140Z
DTSTART:20260424T040000Z
DTEND:20260507T040000Z
LOCATION:ELEMENTS Contemporary Art Space
DESCRIPTION:<p>ITSLIQUID Group\, is pleased to announce the opening of the 
 17th edition of LONDON</p><p>CONTEMPORARY\, which will take place in London
  at ELEMENTS Contemporary Art</p><p>Space from April 24 to May 07\, 2026. T
 his edition brings together a compelling selection of</p><p>international a
 rtists whose practices engage with memory\, identity\, emotion\, and narrat
 ive\,</p><p>offering an immersive exploration of the contemporary visual la
 ndscape.</p><p>LONDON CONTEMPORARY 2026 centers on the evolving dialogue be
 tween body\,</p><p>identity\, and space\, investigating how contemporary in
 dividuals perceive themselves and</p><p>relate to the environments they inh
 abit\, both physical and psychological. Structured around</p><p>the curator
 ial frameworks of LIQUID ROOMS and FUTURE LANDSCAPES\, the exhibition</p><p
 >brings together international artists whose practices explore the fluidity
  of perception\, the</p><p>fragmentation of identity\, and the continuous n
 egotiation between inner experience and</p><p>external reality. Through thi
 s lens\, the fair becomes a space of reflection on how</p><p>consciousness 
 is shaped by cultural\, emotional\, and spatial conditions\, inviting viewe
 rs to</p><p>reconsider the boundaries between the self and the world.</p><p
 >Within this context\, Derin Çokşenim develops a visual language rooted in 
 figurative</p><p>expression and psychological inquiry\, translating rationa
 l questioning into images that</p><p>balance clarity and emotional depth\; 
 her practice reflects an early and consistent</p><p>engagement with paintin
 g and photography\, proposing a contemplative approach to the</p><p>human f
 igure\, where observation becomes a tool for interpreting inner states thro
 ugh a</p><p>structured yet sensitive pictorial language. A similar poetic a
 nd introspective dimension</p><p>unfolds in the work of Silvia Mariani\, wh
 ere absence\, memory\, and longing converge into</p><p>fragile visual narra
 tives suspended between presence and disappearance: her imagery</p><p>opera
 tes as a subtle threshold between emotional states\, inviting the viewer in
 to a</p><p>contemplative space where identity is continuously reshaped thro
 ugh loss\, desire\, and the</p><p>search for connection.</p><p>The late pra
 ctice of Gavino Pedoni (1945 - 2025) emerges from a profound connection to<
 /p><p>Sardinian landscape and culture\, developing a figurative language th
 at resists narration in</p><p>favor of transformation. Working primarily wi
 th oil on canvas and mixed techniques\, Pedoni</p><p>constructs composition
 s in which matter and color become emotional carriers\, generating</p><p>a 
 silent yet powerful tension between equilibrium and depth - a deliberate wi
 thdrawal from</p><p>visibility\, affirming painting as an intimate and nece
 ssary act rather than a pursuit of</p><p>exposure. Within a broader explora
 tion of visual culture and symbolic imagery\, Arthur</p><p>Mirzoyan merges 
 academic painting traditions with cinematic sensibility\, creating</p><p>co
 mpositions that oscillate between figuration and abstraction. Through refin
 ed drawing\,</p><p>layered color structures\, and symbolic references to cl
 assical European art\, he constructs images that evoke both timelessness an
 d contemporary reinterpretation\, exploring the</p><p>tension between narra
 tive construction and visual immediacy.</p><p>Expanding the field of contem
 porary practice\, Papia Ghoshal develops a multidisciplinary</p><p>approach
  spanning painting\, poetry\, performance\, music\, and academic research\;
  her</p><p>work is deeply informed by Tantric philosophy and the spiritual 
 traditions of Bengal\,</p><p>particularly the Baul and Fakir practices thro
 ugh which she constructs visionary</p><p>environments where philosophy\, bo
 dy\, and artistic experimentation converge\, transforming</p><p>artistic ex
 pression into a lived and performative experience. A similarly experimental
 </p><p>approach to material and process characterises the practice of Pilar
  Xercavins Casas\,</p><p>whose abstract works emerge from an intimate dialo
 gue with natural elements and organic</p><p>transformation\, used to reflec
 t a deep engagement with nature as both medium and</p><p>collaborator\, whe
 re chance\, time\, and environmental forces shape the final composition.</p
 ><p>Together\, the selected artists articulate a multifaceted reflection on
  identity\, memory\, and</p><p>perception\, each contributing a distinct vi
 sual and conceptual approach to the evolving</p><p>understanding of the hum
 an condition.</p><p><strong>OPENING</strong></p><p>April 24\, 2026 | 06:00 
 PM - 08:00 PM</p><p>RSVP: info@itsliquid.com</p><p>Free entry - Register he
 re</p><p><strong>EXHIBITION DAYS</strong></p><p>April 25 - May 07\, 2026</p
 ><p>Tuesday - Saturday | 11.00 AM - 05.00 PM</p><p>ELEMENTS Contemporary Ar
 t Space</p><p>253 Hoxton Street\, London N1 5LG</p>
URL:https://volunteerlondon.ca/events/london-contemporary-art-fair-2026-17t
 h-edition/
UID:event-40@volunteerlondon.ca
END:VEVENT
END:VCALENDAR